BEGIN:VCALENDAR
VERSION:2.0
PRODID:-//Szabad Jógi létmód - ECPv6.13.2.1//NONSGML v1.0//EN
CALSCALE:GREGORIAN
METHOD:PUBLISH
X-WR-CALNAME:Szabad Jógi létmód
X-ORIGINAL-URL:https://szabadjogi.hu
X-WR-CALDESC:Események Szabad Jógi létmód
REFRESH-INTERVAL;VALUE=DURATION:PT1H
X-Robots-Tag:noindex
X-PUBLISHED-TTL:PT1H
BEGIN:VTIMEZONE
TZID:UTC
BEGIN:STANDARD
TZOFFSETFROM:+0000
TZOFFSETTO:+0000
TZNAME:UTC
DTSTART:20250101T000000
END:STANDARD
END:VTIMEZONE
BEGIN:VEVENT
DTSTART;TZID=UTC:20250105T170000
DTEND;TZID=UTC:20250105T190000
DTSTAMP:20260423T180520
CREATED:20240831T132423Z
LAST-MODIFIED:20240831T132423Z
UID:9249-1736096400-1736103600@szabadjogi.hu
SUMMARY:Mahasziddha átadás: Aranyelixír jógája
DESCRIPTION:A Szabad Jógi tanításait online tartjuk meg\, elsősorban Zoom szoftvert használva.  A jelentkezőket kérjük\, hogy telefonjukra vagy számítógépre töltsék le a Zoom szoftverét. Az alkalmakra legkésőbb a kezdés előtt 30 perccel kell jelentkezni\, mert körülbelül 20 perccel az átadás előtt küldjük ki az aktuális linket a jelentkezőknek. Köszönjük rugalmasságotokat!
URL:https://szabadjogi.hu/esemeny/energiagyakorlatok-2-3-3-4-2-2022-02-03-2-3-2-2-2-4-2-2023-07-06-2-3-2-2-2-2-2-5-2/
LOCATION:Zoom
CATEGORIES:Események
ATTACH;FMTTYPE=image/jpeg:https://szabadjogi.hu/wp-content/uploads/2022/01/Tilopa.jpg
END:VEVENT
BEGIN:VEVENT
DTSTART;TZID=UTC:20250106T180000
DTEND;TZID=UTC:20250106T193000
DTSTAMP:20260423T180520
CREATED:20240831T122643Z
LAST-MODIFIED:20240831T122643Z
UID:9180-1736186400-1736191800@szabadjogi.hu
SUMMARY:Dákini átadás: Hosszú élet Buddhák
DESCRIPTION:A Szabad Jógi tanításait online tartjuk meg\, elsősorban Zoom szoftvert használva.  A jelentkezőket kérjük\, hogy telefonjukra vagy számítógépre töltsék le a Zoom szoftverét. Az alkalmakra legkésőbb a kezdés előtt 30 perccel kell jelentkezni\, mert körülbelül 20 perccel az átadás előtt küldjük ki az aktuális linket a jelentkezőknek. Köszönjük rugalmasságotokat!
URL:https://szabadjogi.hu/esemeny/energiagyakorlatok-2-3-3-4-2-2022-02-03-2-3-2-2-2-4-2-2023-07-06-2-6-2-2-2-3-3-5/
LOCATION:Zoom
CATEGORIES:Események
ATTACH;FMTTYPE=image/jpeg:https://szabadjogi.hu/wp-content/uploads/2020/09/michael-podger-N-5x9gDWjs0-unsplash.jpg
END:VEVENT
BEGIN:VEVENT
DTSTART;TZID=UTC:20250109T180000
DTEND;TZID=UTC:20250109T193000
DTSTAMP:20260423T180520
CREATED:20240831T131023Z
LAST-MODIFIED:20240831T131023Z
UID:9216-1736445600-1736451000@szabadjogi.hu
SUMMARY:Jógi átadás: Védelmezők (Mahakála) jógája
DESCRIPTION:A Szabad Jógi tanításait online tartjuk meg\, elsősorban Zoom szoftvert használva.  A jelentkezőket kérjük\, hogy telefonjukra vagy számítógépre töltsék le a Zoom szoftverét. Az alkalmakra legkésőbb a kezdés előtt 30 perccel kell jelentkezni\, mert körülbelül 20 perccel az átadás előtt küldjük ki az aktuális linket a jelentkezőknek. Köszönjük rugalmasságotokat!
URL:https://szabadjogi.hu/esemeny/energiagyakorlatok-2-3-3-4-2-2022-02-03-2-3-2-2-2-4-2-2023-07-06-2-2-5-2-2-2-2024-02-22-3-6/
LOCATION:Zoom
CATEGORIES:Események
ATTACH;FMTTYPE=image/jpeg:https://szabadjogi.hu/wp-content/uploads/2020/11/photo-1518241353330-0f7941c2d9b5.jpeg
END:VEVENT
BEGIN:VEVENT
DTSTART;TZID=UTC:20250112T170000
DTEND;TZID=UTC:20250112T190000
DTSTAMP:20260423T180520
CREATED:20240831T132423Z
LAST-MODIFIED:20240831T132423Z
UID:9251-1736701200-1736708400@szabadjogi.hu
SUMMARY:Mahasziddha átadás: Aranyelixír jógája
DESCRIPTION:A Szabad Jógi tanításait online tartjuk meg\, elsősorban Zoom szoftvert használva.  A jelentkezőket kérjük\, hogy telefonjukra vagy számítógépre töltsék le a Zoom szoftverét. Az alkalmakra legkésőbb a kezdés előtt 30 perccel kell jelentkezni\, mert körülbelül 20 perccel az átadás előtt küldjük ki az aktuális linket a jelentkezőknek. Köszönjük rugalmasságotokat!
URL:https://szabadjogi.hu/esemeny/energiagyakorlatok-2-3-3-4-2-2022-02-03-2-3-2-2-2-4-2-2023-07-06-2-3-2-2-2-2-2-5-2-2025-01-12/
LOCATION:Zoom
CATEGORIES:Események
ATTACH;FMTTYPE=image/jpeg:https://szabadjogi.hu/wp-content/uploads/2022/01/Tilopa.jpg
END:VEVENT
BEGIN:VEVENT
DTSTART;TZID=UTC:20250113T180000
DTEND;TZID=UTC:20250113T193000
DTSTAMP:20260423T180520
CREATED:20240831T122643Z
LAST-MODIFIED:20240831T122643Z
UID:9182-1736791200-1736796600@szabadjogi.hu
SUMMARY:Dákini átadás: Hosszú élet Buddhák
DESCRIPTION:A Szabad Jógi tanításait online tartjuk meg\, elsősorban Zoom szoftvert használva.  A jelentkezőket kérjük\, hogy telefonjukra vagy számítógépre töltsék le a Zoom szoftverét. Az alkalmakra legkésőbb a kezdés előtt 30 perccel kell jelentkezni\, mert körülbelül 20 perccel az átadás előtt küldjük ki az aktuális linket a jelentkezőknek. Köszönjük rugalmasságotokat!
URL:https://szabadjogi.hu/esemeny/energiagyakorlatok-2-3-3-4-2-2022-02-03-2-3-2-2-2-4-2-2023-07-06-2-6-2-2-2-3-3-5-2025-01-13/
LOCATION:Zoom
CATEGORIES:Események
ATTACH;FMTTYPE=image/jpeg:https://szabadjogi.hu/wp-content/uploads/2020/09/michael-podger-N-5x9gDWjs0-unsplash.jpg
END:VEVENT
BEGIN:VEVENT
DTSTART;TZID=UTC:20250115T100000
DTEND;TZID=UTC:20250115T113000
DTSTAMP:20260423T180520
CREATED:20250113T123339Z
LAST-MODIFIED:20250113T123339Z
UID:9560-1736935200-1736940600@szabadjogi.hu
SUMMARY:Test-tudat jóga
DESCRIPTION:A Szabad Jógi tanításait online tartjuk meg\, elsősorban Zoom szoftvert használva.  A jelentkezőket kérjük\, hogy telefonjukra vagy számítógépre töltsék le a Zoom szoftverét. Az alkalmakra legkésőbb a kezdés előtt 30 perccel kell jelentkezni\, mert körülbelül 20 perccel az átadás előtt küldjük ki az aktuális linket a jelentkezőknek. Köszönjük rugalmasságotokat!
URL:https://szabadjogi.hu/esemeny/energiagyakorlatok-2-3-3-4-2-2022-02-03-2-3-2-2-2-4-2-2023-07-06-2-4-2-3-2-2/
LOCATION:Zoom
CATEGORIES:Események
ATTACH;FMTTYPE=image/jpeg:https://szabadjogi.hu/wp-content/uploads/2020/09/eneko-urunuela-I2YSmEUAgDY-unsplash.jpg
END:VEVENT
BEGIN:VEVENT
DTSTART;TZID=UTC:20250116T180000
DTEND;TZID=UTC:20250116T193000
DTSTAMP:20260423T180520
CREATED:20240831T131023Z
LAST-MODIFIED:20240831T131023Z
UID:9218-1737050400-1737055800@szabadjogi.hu
SUMMARY:Jógi átadás: Védelmezők (Mahakála) jógája
DESCRIPTION:A Szabad Jógi tanításait online tartjuk meg\, elsősorban Zoom szoftvert használva.  A jelentkezőket kérjük\, hogy telefonjukra vagy számítógépre töltsék le a Zoom szoftverét. Az alkalmakra legkésőbb a kezdés előtt 30 perccel kell jelentkezni\, mert körülbelül 20 perccel az átadás előtt küldjük ki az aktuális linket a jelentkezőknek. Köszönjük rugalmasságotokat!
URL:https://szabadjogi.hu/esemeny/energiagyakorlatok-2-3-3-4-2-2022-02-03-2-3-2-2-2-4-2-2023-07-06-2-2-5-2-2-2-2024-02-22-3-6-2025-01-16/
LOCATION:Zoom
CATEGORIES:Események
ATTACH;FMTTYPE=image/jpeg:https://szabadjogi.hu/wp-content/uploads/2020/11/photo-1518241353330-0f7941c2d9b5.jpeg
END:VEVENT
BEGIN:VEVENT
DTSTART;TZID=UTC:20250119T170000
DTEND;TZID=UTC:20250119T190000
DTSTAMP:20260423T180520
CREATED:20240831T132423Z
LAST-MODIFIED:20240831T132423Z
UID:9252-1737306000-1737313200@szabadjogi.hu
SUMMARY:Mahasziddha átadás: Aranyelixír jógája
DESCRIPTION:A Szabad Jógi tanításait online tartjuk meg\, elsősorban Zoom szoftvert használva.  A jelentkezőket kérjük\, hogy telefonjukra vagy számítógépre töltsék le a Zoom szoftverét. Az alkalmakra legkésőbb a kezdés előtt 30 perccel kell jelentkezni\, mert körülbelül 20 perccel az átadás előtt küldjük ki az aktuális linket a jelentkezőknek. Köszönjük rugalmasságotokat!
URL:https://szabadjogi.hu/esemeny/energiagyakorlatok-2-3-3-4-2-2022-02-03-2-3-2-2-2-4-2-2023-07-06-2-3-2-2-2-2-2-5-2-2025-01-19/
LOCATION:Zoom
CATEGORIES:Események
ATTACH;FMTTYPE=image/jpeg:https://szabadjogi.hu/wp-content/uploads/2022/01/Tilopa.jpg
END:VEVENT
BEGIN:VEVENT
DTSTART;TZID=UTC:20250120T180000
DTEND;TZID=UTC:20250120T193000
DTSTAMP:20260423T180520
CREATED:20240831T122643Z
LAST-MODIFIED:20240831T122643Z
UID:9183-1737396000-1737401400@szabadjogi.hu
SUMMARY:Dákini átadás: Hosszú élet Buddhák
DESCRIPTION:A Szabad Jógi tanításait online tartjuk meg\, elsősorban Zoom szoftvert használva.  A jelentkezőket kérjük\, hogy telefonjukra vagy számítógépre töltsék le a Zoom szoftverét. Az alkalmakra legkésőbb a kezdés előtt 30 perccel kell jelentkezni\, mert körülbelül 20 perccel az átadás előtt küldjük ki az aktuális linket a jelentkezőknek. Köszönjük rugalmasságotokat!
URL:https://szabadjogi.hu/esemeny/energiagyakorlatok-2-3-3-4-2-2022-02-03-2-3-2-2-2-4-2-2023-07-06-2-6-2-2-2-3-3-5-2025-01-20/
LOCATION:Zoom
CATEGORIES:Események
ATTACH;FMTTYPE=image/jpeg:https://szabadjogi.hu/wp-content/uploads/2020/09/michael-podger-N-5x9gDWjs0-unsplash.jpg
END:VEVENT
BEGIN:VEVENT
DTSTART;TZID=UTC:20250128T180000
DTEND;TZID=UTC:20250128T193000
DTSTAMP:20260423T180520
CREATED:20240831T122643Z
LAST-MODIFIED:20240831T122643Z
UID:9184-1738087200-1738092600@szabadjogi.hu
SUMMARY:Dákini átadás: Hosszú élet Buddhák
DESCRIPTION:A Szabad Jógi tanításait online tartjuk meg\, elsősorban Zoom szoftvert használva.  A jelentkezőket kérjük\, hogy telefonjukra vagy számítógépre töltsék le a Zoom szoftverét. Az alkalmakra legkésőbb a kezdés előtt 30 perccel kell jelentkezni\, mert körülbelül 20 perccel az átadás előtt küldjük ki az aktuális linket a jelentkezőknek. Köszönjük rugalmasságotokat!
URL:https://szabadjogi.hu/esemeny/energiagyakorlatok-2-3-3-4-2-2022-02-03-2-3-2-2-2-4-2-2023-07-06-2-6-2-2-2-3-3-5-2025-01-28/
LOCATION:Zoom
CATEGORIES:Események
ATTACH;FMTTYPE=image/jpeg:https://szabadjogi.hu/wp-content/uploads/2020/09/michael-podger-N-5x9gDWjs0-unsplash.jpg
END:VEVENT
BEGIN:VEVENT
DTSTART;TZID=UTC:20250129T100000
DTEND;TZID=UTC:20250129T113000
DTSTAMP:20260423T180520
CREATED:20250113T123339Z
LAST-MODIFIED:20250113T123339Z
UID:9563-1738144800-1738150200@szabadjogi.hu
SUMMARY:Test-tudat jóga
DESCRIPTION:A Szabad Jógi tanításait online tartjuk meg\, elsősorban Zoom szoftvert használva.  A jelentkezőket kérjük\, hogy telefonjukra vagy számítógépre töltsék le a Zoom szoftverét. Az alkalmakra legkésőbb a kezdés előtt 30 perccel kell jelentkezni\, mert körülbelül 20 perccel az átadás előtt küldjük ki az aktuális linket a jelentkezőknek. Köszönjük rugalmasságotokat!
URL:https://szabadjogi.hu/esemeny/energiagyakorlatok-2-3-3-4-2-2022-02-03-2-3-2-2-2-4-2-2023-07-06-2-4-2-3-2-2-2025-01-29/
LOCATION:Zoom
CATEGORIES:Események
ATTACH;FMTTYPE=image/jpeg:https://szabadjogi.hu/wp-content/uploads/2020/09/eneko-urunuela-I2YSmEUAgDY-unsplash.jpg
END:VEVENT
BEGIN:VEVENT
DTSTART;TZID=UTC:20250130T180000
DTEND;TZID=UTC:20250130T193000
DTSTAMP:20260423T180520
CREATED:20240831T131023Z
LAST-MODIFIED:20240831T131023Z
UID:9220-1738260000-1738265400@szabadjogi.hu
SUMMARY:Jógi átadás: Védelmezők (Mahakála) jógája
DESCRIPTION:A Szabad Jógi tanításait online tartjuk meg\, elsősorban Zoom szoftvert használva.  A jelentkezőket kérjük\, hogy telefonjukra vagy számítógépre töltsék le a Zoom szoftverét. Az alkalmakra legkésőbb a kezdés előtt 30 perccel kell jelentkezni\, mert körülbelül 20 perccel az átadás előtt küldjük ki az aktuális linket a jelentkezőknek. Köszönjük rugalmasságotokat!
URL:https://szabadjogi.hu/esemeny/energiagyakorlatok-2-3-3-4-2-2022-02-03-2-3-2-2-2-4-2-2023-07-06-2-2-5-2-2-2-2024-02-22-3-6-2025-01-30/
LOCATION:Zoom
CATEGORIES:Események
ATTACH;FMTTYPE=image/jpeg:https://szabadjogi.hu/wp-content/uploads/2020/11/photo-1518241353330-0f7941c2d9b5.jpeg
END:VEVENT
END:VCALENDAR