BEGIN:VCALENDAR
VERSION:2.0
PRODID:-//Szabad Jógi létmód - ECPv6.13.2.1//NONSGML v1.0//EN
CALSCALE:GREGORIAN
METHOD:PUBLISH
X-WR-CALNAME:Szabad Jógi létmód
X-ORIGINAL-URL:https://szabadjogi.hu
X-WR-CALDESC:Események Szabad Jógi létmód
REFRESH-INTERVAL;VALUE=DURATION:PT1H
X-Robots-Tag:noindex
X-PUBLISHED-TTL:PT1H
BEGIN:VTIMEZONE
TZID:UTC
BEGIN:STANDARD
TZOFFSETFROM:+0000
TZOFFSETTO:+0000
TZNAME:UTC
DTSTART:20250101T000000
END:STANDARD
END:VTIMEZONE
BEGIN:VEVENT
DTSTART;TZID=UTC:20250402T100000
DTEND;TZID=UTC:20250402T113000
DTSTAMP:20260423T133445
CREATED:20250113T123339Z
LAST-MODIFIED:20250113T123339Z
UID:9572-1743588000-1743593400@szabadjogi.hu
SUMMARY:Test-tudat jóga
DESCRIPTION:A Szabad Jógi tanításait online tartjuk meg\, elsősorban Zoom szoftvert használva.  A jelentkezőket kérjük\, hogy telefonjukra vagy számítógépre töltsék le a Zoom szoftverét. Az alkalmakra legkésőbb a kezdés előtt 30 perccel kell jelentkezni\, mert körülbelül 20 perccel az átadás előtt küldjük ki az aktuális linket a jelentkezőknek. Köszönjük rugalmasságotokat!
URL:https://szabadjogi.hu/esemeny/energiagyakorlatok-2-3-3-4-2-2022-02-03-2-3-2-2-2-4-2-2023-07-06-2-4-2-3-2-2-2025-04-02/
LOCATION:Zoom
CATEGORIES:Események
ATTACH;FMTTYPE=image/jpeg:https://szabadjogi.hu/wp-content/uploads/2020/09/eneko-urunuela-I2YSmEUAgDY-unsplash.jpg
END:VEVENT
BEGIN:VEVENT
DTSTART;TZID=UTC:20250403T180000
DTEND;TZID=UTC:20250403T193000
DTSTAMP:20260423T133445
CREATED:20250227T132003Z
LAST-MODIFIED:20250227T132003Z
UID:9695-1743703200-1743708600@szabadjogi.hu
SUMMARY:Jógi átadás: Megvilágosodás erőtere - Szakrális Mandala tanítások és gyakorlás
DESCRIPTION:A Szabad Jógi tanításait online tartjuk meg\, elsősorban Zoom szoftvert használva.  A jelentkezőket kérjük\, hogy telefonjukra vagy számítógépre töltsék le a Zoom szoftverét. Az alkalmakra legkésőbb a kezdés előtt 30 perccel kell jelentkezni\, mert körülbelül 20 perccel az átadás előtt küldjük ki az aktuális linket a jelentkezőknek. Köszönjük rugalmasságotokat!
URL:https://szabadjogi.hu/esemeny/energiagyakorlatok-2-3-3-4-2-2022-02-03-2-3-2-2-2-4-2-2023-07-06-2-2-5-2-2-2-2024-02-22-3-7-2-2025-03-13-2025-04-03/
LOCATION:Zoom
CATEGORIES:Események
ATTACH;FMTTYPE=image/jpeg:https://szabadjogi.hu/wp-content/uploads/2020/11/photo-1518241353330-0f7941c2d9b5.jpeg
END:VEVENT
BEGIN:VEVENT
DTSTART;TZID=UTC:20250407T180000
DTEND;TZID=UTC:20250407T193000
DTSTAMP:20260423T133445
CREATED:20250228T170334Z
LAST-MODIFIED:20250228T172047Z
UID:9683-1744048800-1744054200@szabadjogi.hu
SUMMARY:Dákini átadás: 21 Tara tanítások
DESCRIPTION:A Szabad Jógi tanításait online tartjuk meg\, elsősorban Zoom szoftvert használva.  A jelentkezőket kérjük\, hogy telefonjukra vagy számítógépre töltsék le a Zoom szoftverét. Az alkalmakra legkésőbb a kezdés előtt 30 perccel kell jelentkezni\, mert körülbelül 20 perccel az átadás előtt küldjük ki az aktuális linket a jelentkezőknek. Köszönjük rugalmasságotokat!
URL:https://szabadjogi.hu/esemeny/energiagyakorlatok-2-3-3-4-2-2022-02-03-2-3-2-2-2-4-2-2023-07-06-2-6-2-2-2-3-3-5-2-2/
LOCATION:Zoom
CATEGORIES:Események
ATTACH;FMTTYPE=image/jpeg:https://szabadjogi.hu/wp-content/uploads/2020/09/michael-podger-N-5x9gDWjs0-unsplash.jpg
END:VEVENT
BEGIN:VEVENT
DTSTART;TZID=UTC:20250410T180000
DTEND;TZID=UTC:20250410T193000
DTSTAMP:20260423T133445
CREATED:20250227T132003Z
LAST-MODIFIED:20250227T132003Z
UID:9696-1744308000-1744313400@szabadjogi.hu
SUMMARY:Jógi átadás: Megvilágosodás erőtere - Szakrális Mandala tanítások és gyakorlás
DESCRIPTION:A Szabad Jógi tanításait online tartjuk meg\, elsősorban Zoom szoftvert használva.  A jelentkezőket kérjük\, hogy telefonjukra vagy számítógépre töltsék le a Zoom szoftverét. Az alkalmakra legkésőbb a kezdés előtt 30 perccel kell jelentkezni\, mert körülbelül 20 perccel az átadás előtt küldjük ki az aktuális linket a jelentkezőknek. Köszönjük rugalmasságotokat!
URL:https://szabadjogi.hu/esemeny/energiagyakorlatok-2-3-3-4-2-2022-02-03-2-3-2-2-2-4-2-2023-07-06-2-2-5-2-2-2-2024-02-22-3-7-2-2025-03-13-2025-04-10/
LOCATION:Zoom
CATEGORIES:Események
ATTACH;FMTTYPE=image/jpeg:https://szabadjogi.hu/wp-content/uploads/2020/11/photo-1518241353330-0f7941c2d9b5.jpeg
END:VEVENT
BEGIN:VEVENT
DTSTART;TZID=UTC:20250416T100000
DTEND;TZID=UTC:20250416T113000
DTSTAMP:20260423T133445
CREATED:20250113T123339Z
LAST-MODIFIED:20250113T123339Z
UID:9574-1744797600-1744803000@szabadjogi.hu
SUMMARY:Test-tudat jóga
DESCRIPTION:A Szabad Jógi tanításait online tartjuk meg\, elsősorban Zoom szoftvert használva.  A jelentkezőket kérjük\, hogy telefonjukra vagy számítógépre töltsék le a Zoom szoftverét. Az alkalmakra legkésőbb a kezdés előtt 30 perccel kell jelentkezni\, mert körülbelül 20 perccel az átadás előtt küldjük ki az aktuális linket a jelentkezőknek. Köszönjük rugalmasságotokat!
URL:https://szabadjogi.hu/esemeny/energiagyakorlatok-2-3-3-4-2-2022-02-03-2-3-2-2-2-4-2-2023-07-06-2-4-2-3-2-2-2025-04-16/
LOCATION:Zoom
CATEGORIES:Események
ATTACH;FMTTYPE=image/jpeg:https://szabadjogi.hu/wp-content/uploads/2020/09/eneko-urunuela-I2YSmEUAgDY-unsplash.jpg
END:VEVENT
BEGIN:VEVENT
DTSTART;TZID=UTC:20250417T180000
DTEND;TZID=UTC:20250417T193000
DTSTAMP:20260423T133445
CREATED:20250227T132003Z
LAST-MODIFIED:20250227T132003Z
UID:9697-1744912800-1744918200@szabadjogi.hu
SUMMARY:Jógi átadás: Megvilágosodás erőtere - Szakrális Mandala tanítások és gyakorlás
DESCRIPTION:A Szabad Jógi tanításait online tartjuk meg\, elsősorban Zoom szoftvert használva.  A jelentkezőket kérjük\, hogy telefonjukra vagy számítógépre töltsék le a Zoom szoftverét. Az alkalmakra legkésőbb a kezdés előtt 30 perccel kell jelentkezni\, mert körülbelül 20 perccel az átadás előtt küldjük ki az aktuális linket a jelentkezőknek. Köszönjük rugalmasságotokat!
URL:https://szabadjogi.hu/esemeny/energiagyakorlatok-2-3-3-4-2-2022-02-03-2-3-2-2-2-4-2-2023-07-06-2-2-5-2-2-2-2024-02-22-3-7-2-2025-03-13-2025-04-17/
LOCATION:Zoom
CATEGORIES:Események
ATTACH;FMTTYPE=image/jpeg:https://szabadjogi.hu/wp-content/uploads/2020/11/photo-1518241353330-0f7941c2d9b5.jpeg
END:VEVENT
BEGIN:VEVENT
DTSTART;TZID=UTC:20250422T180000
DTEND;TZID=UTC:20250422T193000
DTSTAMP:20260423T133445
CREATED:20250228T170334Z
LAST-MODIFIED:20250228T170334Z
UID:9703-1745344800-1745350200@szabadjogi.hu
SUMMARY:Dákini átadás: 21 Tara tanítások
DESCRIPTION:A Szabad Jógi tanításait online tartjuk meg\, elsősorban Zoom szoftvert használva.  A jelentkezőket kérjük\, hogy telefonjukra vagy számítógépre töltsék le a Zoom szoftverét. Az alkalmakra legkésőbb a kezdés előtt 30 perccel kell jelentkezni\, mert körülbelül 20 perccel az átadás előtt küldjük ki az aktuális linket a jelentkezőknek. Köszönjük rugalmasságotokat!
URL:https://szabadjogi.hu/esemeny/energiagyakorlatok-2-3-3-4-2-2022-02-03-2-3-2-2-2-4-2-2023-07-06-2-6-2-2-2-3-3-5-2-2-2025-04-22/
LOCATION:Zoom
CATEGORIES:Események
ATTACH;FMTTYPE=image/jpeg:https://szabadjogi.hu/wp-content/uploads/2020/09/michael-podger-N-5x9gDWjs0-unsplash.jpg
END:VEVENT
BEGIN:VEVENT
DTSTART;TZID=UTC:20250423T100000
DTEND;TZID=UTC:20250423T113000
DTSTAMP:20260423T133445
CREATED:20250113T123339Z
LAST-MODIFIED:20250113T123339Z
UID:9575-1745402400-1745407800@szabadjogi.hu
SUMMARY:Test-tudat jóga
DESCRIPTION:A Szabad Jógi tanításait online tartjuk meg\, elsősorban Zoom szoftvert használva.  A jelentkezőket kérjük\, hogy telefonjukra vagy számítógépre töltsék le a Zoom szoftverét. Az alkalmakra legkésőbb a kezdés előtt 30 perccel kell jelentkezni\, mert körülbelül 20 perccel az átadás előtt küldjük ki az aktuális linket a jelentkezőknek. Köszönjük rugalmasságotokat!
URL:https://szabadjogi.hu/esemeny/energiagyakorlatok-2-3-3-4-2-2022-02-03-2-3-2-2-2-4-2-2023-07-06-2-4-2-3-2-2-2025-04-23/
LOCATION:Zoom
CATEGORIES:Események
ATTACH;FMTTYPE=image/jpeg:https://szabadjogi.hu/wp-content/uploads/2020/09/eneko-urunuela-I2YSmEUAgDY-unsplash.jpg
END:VEVENT
BEGIN:VEVENT
DTSTART;TZID=UTC:20250424T180000
DTEND;TZID=UTC:20250424T193000
DTSTAMP:20260423T133445
CREATED:20250227T132003Z
LAST-MODIFIED:20250227T132003Z
UID:9698-1745517600-1745523000@szabadjogi.hu
SUMMARY:Jógi átadás: Megvilágosodás erőtere - Szakrális Mandala tanítások és gyakorlás
DESCRIPTION:A Szabad Jógi tanításait online tartjuk meg\, elsősorban Zoom szoftvert használva.  A jelentkezőket kérjük\, hogy telefonjukra vagy számítógépre töltsék le a Zoom szoftverét. Az alkalmakra legkésőbb a kezdés előtt 30 perccel kell jelentkezni\, mert körülbelül 20 perccel az átadás előtt küldjük ki az aktuális linket a jelentkezőknek. Köszönjük rugalmasságotokat!
URL:https://szabadjogi.hu/esemeny/energiagyakorlatok-2-3-3-4-2-2022-02-03-2-3-2-2-2-4-2-2023-07-06-2-2-5-2-2-2-2024-02-22-3-7-2-2025-03-13-2025-04-24/
LOCATION:Zoom
CATEGORIES:Események
ATTACH;FMTTYPE=image/jpeg:https://szabadjogi.hu/wp-content/uploads/2020/11/photo-1518241353330-0f7941c2d9b5.jpeg
END:VEVENT
BEGIN:VEVENT
DTSTART;TZID=UTC:20250428T180000
DTEND;TZID=UTC:20250428T193000
DTSTAMP:20260423T133445
CREATED:20250228T170334Z
LAST-MODIFIED:20250228T172050Z
UID:9687-1745863200-1745868600@szabadjogi.hu
SUMMARY:Dákini átadás: 21 Tara tanítások
DESCRIPTION:A Szabad Jógi tanításait online tartjuk meg\, elsősorban Zoom szoftvert használva.  A jelentkezőket kérjük\, hogy telefonjukra vagy számítógépre töltsék le a Zoom szoftverét. Az alkalmakra legkésőbb a kezdés előtt 30 perccel kell jelentkezni\, mert körülbelül 20 perccel az átadás előtt küldjük ki az aktuális linket a jelentkezőknek. Köszönjük rugalmasságotokat!
URL:https://szabadjogi.hu/esemeny/energiagyakorlatok-2-3-3-4-2-2022-02-03-2-3-2-2-2-4-2-2023-07-06-2-6-2-2-2-3-3-5-2-2-2025-04-28/
LOCATION:Zoom
CATEGORIES:Események
ATTACH;FMTTYPE=image/jpeg:https://szabadjogi.hu/wp-content/uploads/2020/09/michael-podger-N-5x9gDWjs0-unsplash.jpg
END:VEVENT
END:VCALENDAR