BEGIN:VCALENDAR
VERSION:2.0
PRODID:-//Szabad Jógi létmód - ECPv6.13.2.1//NONSGML v1.0//EN
CALSCALE:GREGORIAN
METHOD:PUBLISH
X-WR-CALNAME:Szabad Jógi létmód
X-ORIGINAL-URL:https://szabadjogi.hu
X-WR-CALDESC:Események Szabad Jógi létmód
REFRESH-INTERVAL;VALUE=DURATION:PT1H
X-Robots-Tag:noindex
X-PUBLISHED-TTL:PT1H
BEGIN:VTIMEZONE
TZID:UTC
BEGIN:STANDARD
TZOFFSETFROM:+0000
TZOFFSETTO:+0000
TZNAME:UTC
DTSTART:20250101T000000
END:STANDARD
END:VTIMEZONE
BEGIN:VEVENT
DTSTART;TZID=UTC:20250703T180000
DTEND;TZID=UTC:20250703T193000
DTSTAMP:20260421T091802
CREATED:20250526T115948Z
LAST-MODIFIED:20250604T095049Z
UID:9846-1751565600-1751571000@szabadjogi.hu
SUMMARY:Jógi átadás: Mahasziddhák tantrikus praxisa
DESCRIPTION:A Szabad Jógi tanításait online tartjuk meg\, elsősorban Zoom szoftvert használva.  A jelentkezőket kérjük\, hogy telefonjukra vagy számítógépre töltsék le a Zoom szoftverét. Az alkalmakra legkésőbb a kezdés előtt 30 perccel kell jelentkezni\, mert körülbelül 20 perccel az átadás előtt küldjük ki az aktuális linket a jelentkezőknek. Köszönjük rugalmasságotokat!
URL:https://szabadjogi.hu/esemeny/energiagyakorlatok-2-3-3-4-2-2022-02-03-2-3-2-2-2-4-2-2023-07-06-2-2-5-2-2-2-2024-02-22-3-7-2-2025-03-13-2-2-2025-07-03/
LOCATION:Zoom
CATEGORIES:Események
ATTACH;FMTTYPE=image/jpeg:https://szabadjogi.hu/wp-content/uploads/2020/11/photo-1518241353330-0f7941c2d9b5.jpeg
END:VEVENT
BEGIN:VEVENT
DTSTART;TZID=UTC:20250706T170000
DTEND;TZID=UTC:20250706T190000
DTSTAMP:20260421T091802
CREATED:20250526T115522Z
LAST-MODIFIED:20250526T115522Z
UID:9840-1751821200-1751828400@szabadjogi.hu
SUMMARY:Mahasziddha átadás: Mahasziddhák tantrikus praxisa
DESCRIPTION:A Szabad Jógi tanításait online tartjuk meg\, elsősorban Zoom szoftvert használva.  A jelentkezőket kérjük\, hogy telefonjukra vagy számítógépre töltsék le a Zoom szoftverét. Az alkalmakra legkésőbb a kezdés előtt 30 perccel kell jelentkezni\, mert körülbelül 20 perccel az átadás előtt küldjük ki az aktuális linket a jelentkezőknek. Köszönjük rugalmasságotokat!
URL:https://szabadjogi.hu/esemeny/energiagyakorlatok-2-3-3-4-2-2022-02-03-2-3-2-2-2-4-2-2023-07-06-2-3-2-2-2-2-2-5-3-2-2-2-2-2025-07-06/
LOCATION:Zoom
CATEGORIES:Események
ATTACH;FMTTYPE=image/jpeg:https://szabadjogi.hu/wp-content/uploads/2022/01/Tilopa.jpg
END:VEVENT
BEGIN:VEVENT
DTSTART;TZID=UTC:20250707T180000
DTEND;TZID=UTC:20250707T193000
DTSTAMP:20260421T091802
CREATED:20250526T114935Z
LAST-MODIFIED:20250526T114935Z
UID:9871-1751911200-1751916600@szabadjogi.hu
SUMMARY:Dákini átadás Virággal
DESCRIPTION:A Szabad Jógi tanításait online tartjuk meg\, elsősorban Zoom szoftvert használva.  A jelentkezőket kérjük\, hogy telefonjukra vagy számítógépre töltsék le a Zoom szoftverét. Az alkalmakra legkésőbb a kezdés előtt 30 perccel kell jelentkezni\, mert körülbelül 20 perccel az átadás előtt küldjük ki az aktuális linket a jelentkezőknek. Köszönjük rugalmasságotokat!
URL:https://szabadjogi.hu/esemeny/energiagyakorlatok-2-3-3-4-2-2022-02-03-2-3-2-2-2-4-2-2023-07-06-2-6-2-2-2-3-3-5-2-2-2-2-2025-07-07/
LOCATION:Zoom
CATEGORIES:Események
ATTACH;FMTTYPE=image/jpeg:https://szabadjogi.hu/wp-content/uploads/2020/09/michael-podger-N-5x9gDWjs0-unsplash.jpg
END:VEVENT
BEGIN:VEVENT
DTSTART;TZID=UTC:20250710T180000
DTEND;TZID=UTC:20250710T193000
DTSTAMP:20260421T091802
CREATED:20250526T115948Z
LAST-MODIFIED:20250604T095050Z
UID:9847-1752170400-1752175800@szabadjogi.hu
SUMMARY:Jógi átadás: Mahasziddhák tantrikus praxisa
DESCRIPTION:A Szabad Jógi tanításait online tartjuk meg\, elsősorban Zoom szoftvert használva.  A jelentkezőket kérjük\, hogy telefonjukra vagy számítógépre töltsék le a Zoom szoftverét. Az alkalmakra legkésőbb a kezdés előtt 30 perccel kell jelentkezni\, mert körülbelül 20 perccel az átadás előtt küldjük ki az aktuális linket a jelentkezőknek. Köszönjük rugalmasságotokat!
URL:https://szabadjogi.hu/esemeny/energiagyakorlatok-2-3-3-4-2-2022-02-03-2-3-2-2-2-4-2-2023-07-06-2-2-5-2-2-2-2024-02-22-3-7-2-2025-03-13-2-2-2025-07-10/
LOCATION:Zoom
CATEGORIES:Események
ATTACH;FMTTYPE=image/jpeg:https://szabadjogi.hu/wp-content/uploads/2020/11/photo-1518241353330-0f7941c2d9b5.jpeg
END:VEVENT
BEGIN:VEVENT
DTSTART;TZID=UTC:20250727T170000
DTEND;TZID=UTC:20250727T190000
DTSTAMP:20260421T091802
CREATED:20250526T115522Z
LAST-MODIFIED:20250727T103856Z
UID:9841-1753635600-1753642800@szabadjogi.hu
SUMMARY:Elmarad! Mahasziddha átadás: Mahasziddhák tantrikus praxisa
DESCRIPTION:A Szabad Jógi tanításait online tartjuk meg\, elsősorban Zoom szoftvert használva.  A jelentkezőket kérjük\, hogy telefonjukra vagy számítógépre töltsék le a Zoom szoftverét. Az alkalmakra legkésőbb a kezdés előtt 30 perccel kell jelentkezni\, mert körülbelül 20 perccel az átadás előtt küldjük ki az aktuális linket a jelentkezőknek. Köszönjük rugalmasságotokat!
URL:https://szabadjogi.hu/esemeny/energiagyakorlatok-2-3-3-4-2-2022-02-03-2-3-2-2-2-4-2-2023-07-06-2-3-2-2-2-2-2-5-3-2-2-2-2-2025-07-27/
LOCATION:Zoom
CATEGORIES:Események
ATTACH;FMTTYPE=image/jpeg:https://szabadjogi.hu/wp-content/uploads/2022/01/Tilopa.jpg
END:VEVENT
BEGIN:VEVENT
DTSTART;TZID=UTC:20250728T180000
DTEND;TZID=UTC:20250728T193000
DTSTAMP:20260421T091802
CREATED:20250526T114935Z
LAST-MODIFIED:20250526T114935Z
UID:9872-1753725600-1753731000@szabadjogi.hu
SUMMARY:Dákini átadás Virággal
DESCRIPTION:A Szabad Jógi tanításait online tartjuk meg\, elsősorban Zoom szoftvert használva.  A jelentkezőket kérjük\, hogy telefonjukra vagy számítógépre töltsék le a Zoom szoftverét. Az alkalmakra legkésőbb a kezdés előtt 30 perccel kell jelentkezni\, mert körülbelül 20 perccel az átadás előtt küldjük ki az aktuális linket a jelentkezőknek. Köszönjük rugalmasságotokat!
URL:https://szabadjogi.hu/esemeny/energiagyakorlatok-2-3-3-4-2-2022-02-03-2-3-2-2-2-4-2-2023-07-06-2-6-2-2-2-3-3-5-2-2-2-2-2025-07-28/
LOCATION:Zoom
CATEGORIES:Események
ATTACH;FMTTYPE=image/jpeg:https://szabadjogi.hu/wp-content/uploads/2020/09/michael-podger-N-5x9gDWjs0-unsplash.jpg
END:VEVENT
END:VCALENDAR