BEGIN:VCALENDAR
VERSION:2.0
PRODID:-//Szabad Jógi létmód - ECPv6.13.2.1//NONSGML v1.0//EN
CALSCALE:GREGORIAN
METHOD:PUBLISH
X-WR-CALNAME:Szabad Jógi létmód
X-ORIGINAL-URL:https://szabadjogi.hu
X-WR-CALDESC:Események Szabad Jógi létmód
REFRESH-INTERVAL;VALUE=DURATION:PT1H
X-Robots-Tag:noindex
X-PUBLISHED-TTL:PT1H
BEGIN:VTIMEZONE
TZID:UTC
BEGIN:STANDARD
TZOFFSETFROM:+0000
TZOFFSETTO:+0000
TZNAME:UTC
DTSTART:20250101T000000
END:STANDARD
END:VTIMEZONE
BEGIN:VEVENT
DTSTART;TZID=UTC:20251001T100000
DTEND;TZID=UTC:20251001T113000
DTSTAMP:20260421T042245
CREATED:20250929T103447Z
LAST-MODIFIED:20250929T103447Z
UID:10194-1759312800-1759318200@szabadjogi.hu
SUMMARY:Jógi mozgás
DESCRIPTION:A Szabad Jógi tanításait online tartjuk meg\, elsősorban Zoom szoftvert használva.  A jelentkezőket kérjük\, hogy telefonjukra vagy számítógépre töltsék le a Zoom szoftverét. Az alkalmakra legkésőbb a kezdés előtt 30 perccel kell jelentkezni\, mert körülbelül 20 perccel az átadás előtt küldjük ki az aktuális linket a jelentkezőknek. Köszönjük rugalmasságotokat!
URL:https://szabadjogi.hu/esemeny/test-tudat-joga-2-3-13/
LOCATION:Zoom
CATEGORIES:Események
ATTACH;FMTTYPE=image/jpeg:https://szabadjogi.hu/wp-content/uploads/2020/09/eneko-urunuela-I2YSmEUAgDY-unsplash.jpg
END:VEVENT
BEGIN:VEVENT
DTSTART;TZID=UTC:20251006T180000
DTEND;TZID=UTC:20251006T193000
DTSTAMP:20260421T042245
CREATED:20250903T110238Z
LAST-MODIFIED:20250903T110238Z
UID:10043-1759773600-1759779000@szabadjogi.hu
SUMMARY:Dákini átadás Virággal: Macsig Labdrön tanítások
DESCRIPTION:A Szabad Jógi tanításait online tartjuk meg\, elsősorban Zoom szoftvert használva.  A jelentkezőket kérjük\, hogy telefonjukra vagy számítógépre töltsék le a Zoom szoftverét. Az alkalmakra legkésőbb a kezdés előtt 30 perccel kell jelentkezni\, mert körülbelül 20 perccel az átadás előtt küldjük ki az aktuális linket a jelentkezőknek. Köszönjük rugalmasságotokat!
URL:https://szabadjogi.hu/esemeny/energiagyakorlatok-2-3-3-4-2-2022-02-03-2-3-2-2-2-4-2-2023-07-06-2-6-2-2-2-3-3-5-2-2-2-2-2025-08-25-2-2-4-2/
LOCATION:Zoom
CATEGORIES:Események
ATTACH;FMTTYPE=image/jpeg:https://szabadjogi.hu/wp-content/uploads/2020/09/michael-podger-N-5x9gDWjs0-unsplash.jpg
END:VEVENT
BEGIN:VEVENT
DTSTART;TZID=UTC:20251008T100000
DTEND;TZID=UTC:20251008T113000
DTSTAMP:20260421T042245
CREATED:20250903T111209Z
LAST-MODIFIED:20250908T173004Z
UID:10069-1759917600-1759923000@szabadjogi.hu
SUMMARY:Jógi mozgás
DESCRIPTION:A Szabad Jógi tanításait online tartjuk meg\, elsősorban Zoom szoftvert használva.  A jelentkezőket kérjük\, hogy telefonjukra vagy számítógépre töltsék le a Zoom szoftverét. Az alkalmakra legkésőbb a kezdés előtt 30 perccel kell jelentkezni\, mert körülbelül 20 perccel az átadás előtt küldjük ki az aktuális linket a jelentkezőknek. Köszönjük rugalmasságotokat!
URL:https://szabadjogi.hu/esemeny/test-tudat-joga-2-3-2/
LOCATION:Zoom
CATEGORIES:Események
ATTACH;FMTTYPE=image/jpeg:https://szabadjogi.hu/wp-content/uploads/2020/09/eneko-urunuela-I2YSmEUAgDY-unsplash.jpg
END:VEVENT
BEGIN:VEVENT
DTSTART;TZID=UTC:20251012T170000
DTEND;TZID=UTC:20251012T183000
DTSTAMP:20260421T042245
CREATED:20250903T110430Z
LAST-MODIFIED:20251010T052343Z
UID:10045-1760288400-1760293800@szabadjogi.hu
SUMMARY:Dákini átadás Virággal: Tara tanítások
DESCRIPTION:A Szabad Jógi tanításait online tartjuk meg\, elsősorban Zoom szoftvert használva.  A jelentkezőket kérjük\, hogy telefonjukra vagy számítógépre töltsék le a Zoom szoftverét. Az alkalmakra legkésőbb a kezdés előtt 30 perccel kell jelentkezni\, mert körülbelül 20 perccel az átadás előtt küldjük ki az aktuális linket a jelentkezőknek. Köszönjük rugalmasságotokat!
URL:https://szabadjogi.hu/esemeny/energiagyakorlatok-2-3-3-4-2-2022-02-03-2-3-2-2-2-4-2-2023-07-06-2-6-2-2-2-3-3-5-2-2-2-2-2025-08-25-2-2-4-2-2/
LOCATION:Zoom
CATEGORIES:Események
ATTACH;FMTTYPE=image/jpeg:https://szabadjogi.hu/wp-content/uploads/2020/09/michael-podger-N-5x9gDWjs0-unsplash.jpg
END:VEVENT
BEGIN:VEVENT
DTSTART;TZID=UTC:20251015T100000
DTEND;TZID=UTC:20251015T113000
DTSTAMP:20260421T042245
CREATED:20250903T111240Z
LAST-MODIFIED:20250908T172955Z
UID:10070-1760522400-1760527800@szabadjogi.hu
SUMMARY:Jógi mozgás
DESCRIPTION:A Szabad Jógi tanításait online tartjuk meg\, elsősorban Zoom szoftvert használva.  A jelentkezőket kérjük\, hogy telefonjukra vagy számítógépre töltsék le a Zoom szoftverét. Az alkalmakra legkésőbb a kezdés előtt 30 perccel kell jelentkezni\, mert körülbelül 20 perccel az átadás előtt küldjük ki az aktuális linket a jelentkezőknek. Köszönjük rugalmasságotokat!
URL:https://szabadjogi.hu/esemeny/test-tudat-joga-2-3-3/
LOCATION:Zoom
CATEGORIES:Események
ATTACH;FMTTYPE=image/jpeg:https://szabadjogi.hu/wp-content/uploads/2020/09/eneko-urunuela-I2YSmEUAgDY-unsplash.jpg
END:VEVENT
BEGIN:VEVENT
DTSTART;TZID=UTC:20251021T180000
DTEND;TZID=UTC:20251021T193000
DTSTAMP:20260421T042245
CREATED:20250903T110441Z
LAST-MODIFIED:20251020T063739Z
UID:10046-1761069600-1761075000@szabadjogi.hu
SUMMARY:Dákini átadás Virággal: Macsig Labdrön tanítások
DESCRIPTION:A Szabad Jógi tanításait online tartjuk meg\, elsősorban Zoom szoftvert használva.  A jelentkezőket kérjük\, hogy telefonjukra vagy számítógépre töltsék le a Zoom szoftverét. Az alkalmakra legkésőbb a kezdés előtt 30 perccel kell jelentkezni\, mert körülbelül 20 perccel az átadás előtt küldjük ki az aktuális linket a jelentkezőknek. Köszönjük rugalmasságotokat!
URL:https://szabadjogi.hu/esemeny/energiagyakorlatok-2-3-3-4-2-2022-02-03-2-3-2-2-2-4-2-2023-07-06-2-6-2-2-2-3-3-5-2-2-2-2-2025-08-25-2-2-4-2-3/
LOCATION:Zoom
CATEGORIES:Események
ATTACH;FMTTYPE=image/jpeg:https://szabadjogi.hu/wp-content/uploads/2020/09/michael-podger-N-5x9gDWjs0-unsplash.jpg
END:VEVENT
BEGIN:VEVENT
DTSTART;TZID=UTC:20251022T100000
DTEND;TZID=UTC:20251022T113000
DTSTAMP:20260421T042245
CREATED:20250903T111249Z
LAST-MODIFIED:20250908T172508Z
UID:10071-1761127200-1761132600@szabadjogi.hu
SUMMARY:Jógi mozgás
DESCRIPTION:A Szabad Jógi tanításait online tartjuk meg\, elsősorban Zoom szoftvert használva.  A jelentkezőket kérjük\, hogy telefonjukra vagy számítógépre töltsék le a Zoom szoftverét. Az alkalmakra legkésőbb a kezdés előtt 30 perccel kell jelentkezni\, mert körülbelül 20 perccel az átadás előtt küldjük ki az aktuális linket a jelentkezőknek. Köszönjük rugalmasságotokat!
URL:https://szabadjogi.hu/esemeny/test-tudat-joga-2-3-4/
LOCATION:Zoom
CATEGORIES:Események
ATTACH;FMTTYPE=image/jpeg:https://szabadjogi.hu/wp-content/uploads/2020/09/eneko-urunuela-I2YSmEUAgDY-unsplash.jpg
END:VEVENT
BEGIN:VEVENT
DTSTART;TZID=UTC:20251027T180000
DTEND;TZID=UTC:20251027T193000
DTSTAMP:20260421T042245
CREATED:20250903T110450Z
LAST-MODIFIED:20250903T110450Z
UID:10047-1761588000-1761593400@szabadjogi.hu
SUMMARY:Dákini átadás Virággal: Macsig Labdrön tanítások
DESCRIPTION:A Szabad Jógi tanításait online tartjuk meg\, elsősorban Zoom szoftvert használva.  A jelentkezőket kérjük\, hogy telefonjukra vagy számítógépre töltsék le a Zoom szoftverét. Az alkalmakra legkésőbb a kezdés előtt 30 perccel kell jelentkezni\, mert körülbelül 20 perccel az átadás előtt küldjük ki az aktuális linket a jelentkezőknek. Köszönjük rugalmasságotokat!
URL:https://szabadjogi.hu/esemeny/energiagyakorlatok-2-3-3-4-2-2022-02-03-2-3-2-2-2-4-2-2023-07-06-2-6-2-2-2-3-3-5-2-2-2-2-2025-08-25-2-2-4-2-4/
LOCATION:Zoom
CATEGORIES:Események
ATTACH;FMTTYPE=image/jpeg:https://szabadjogi.hu/wp-content/uploads/2020/09/michael-podger-N-5x9gDWjs0-unsplash.jpg
END:VEVENT
BEGIN:VEVENT
DTSTART;TZID=UTC:20251029T100000
DTEND;TZID=UTC:20251029T113000
DTSTAMP:20260421T042245
CREATED:20250903T111301Z
LAST-MODIFIED:20251028T074635Z
UID:10072-1761732000-1761737400@szabadjogi.hu
SUMMARY:Elmarad! Jógi mozgás
DESCRIPTION:A Szabad Jógi tanításait online tartjuk meg\, elsősorban Zoom szoftvert használva.  A jelentkezőket kérjük\, hogy telefonjukra vagy számítógépre töltsék le a Zoom szoftverét. Az alkalmakra legkésőbb a kezdés előtt 30 perccel kell jelentkezni\, mert körülbelül 20 perccel az átadás előtt küldjük ki az aktuális linket a jelentkezőknek. Köszönjük rugalmasságotokat!
URL:https://szabadjogi.hu/esemeny/test-tudat-joga-2-3-5/
LOCATION:Zoom
CATEGORIES:Események
ATTACH;FMTTYPE=image/jpeg:https://szabadjogi.hu/wp-content/uploads/2020/09/eneko-urunuela-I2YSmEUAgDY-unsplash.jpg
END:VEVENT
END:VCALENDAR