BEGIN:VCALENDAR
VERSION:2.0
PRODID:-//Szabad Jógi létmód - ECPv6.13.2.1//NONSGML v1.0//EN
CALSCALE:GREGORIAN
METHOD:PUBLISH
X-ORIGINAL-URL:https://szabadjogi.hu
X-WR-CALDESC:Események Szabad Jógi létmód
REFRESH-INTERVAL;VALUE=DURATION:PT1H
X-Robots-Tag:noindex
X-PUBLISHED-TTL:PT1H
BEGIN:VTIMEZONE
TZID:UTC
BEGIN:STANDARD
TZOFFSETFROM:+0000
TZOFFSETTO:+0000
TZNAME:UTC
DTSTART:20260101T000000
END:STANDARD
END:VTIMEZONE
BEGIN:VEVENT
DTSTART;TZID=UTC:20260501T080000
DTEND;TZID=UTC:20260501T090000
DTSTAMP:20260420T195101
CREATED:20260324T132022Z
LAST-MODIFIED:20260324T132022Z
UID:10801-1777622400-1777626000@szabadjogi.hu
SUMMARY:Jógi nyújtás
DESCRIPTION:A Szabad Jógi tanításait online tartjuk meg\, elsősorban Zoom szoftvert használva.  A jelentkezőket kérjük\, hogy telefonjukra vagy számítógépre töltsék le a Zoom szoftverét. Az alkalmakra legkésőbb a kezdés előtt 30 perccel kell jelentkezni\, mert körülbelül 20 perccel az átadás előtt küldjük ki az aktuális linket a jelentkezőknek. Köszönjük rugalmasságotokat!
URL:https://szabadjogi.hu/esemeny/test-tudat-joga-2-3-12-2-5-10-2-2/
LOCATION:Zoom
CATEGORIES:Események
ATTACH;FMTTYPE=image/jpeg:https://szabadjogi.hu/wp-content/uploads/2020/09/eneko-urunuela-I2YSmEUAgDY-unsplash.jpg
END:VEVENT
BEGIN:VEVENT
DTSTART;TZID=UTC:20260503T170000
DTEND;TZID=UTC:20260503T190000
DTSTAMP:20260420T195101
CREATED:20260105T152654Z
LAST-MODIFIED:20260323T070037Z
UID:10593-1777827600-1777834800@szabadjogi.hu
SUMMARY:Mahasziddha átadás: Guru nyolc arca
DESCRIPTION:A Szabad Jógi tanításait online tartjuk meg\, elsősorban Zoom szoftvert használva.  A jelentkezőket kérjük\, hogy telefonjukra vagy számítógépre töltsék le a Zoom szoftverét. Az alkalmakra legkésőbb a kezdés előtt 30 perccel kell jelentkezni\, mert körülbelül 20 perccel az átadás előtt küldjük ki az aktuális linket a jelentkezőknek. Köszönjük rugalmasságotokat!
URL:https://szabadjogi.hu/esemeny/energiagyakorlatok-2-3-3-4-2-2022-02-03-2-3-2-2-2-4-2-2023-07-06-2-3-2-2-2-2-2-5-3-2-2-2-2-2-2-3-4-2-3-2-2-3-2-4-4/
LOCATION:Zoom
CATEGORIES:Események
ATTACH;FMTTYPE=image/jpeg:https://szabadjogi.hu/wp-content/uploads/2022/01/Tilopa.jpg
END:VEVENT
BEGIN:VEVENT
DTSTART;TZID=UTC:20260504T180000
DTEND;TZID=UTC:20260504T193000
DTSTAMP:20260420T195101
CREATED:20260324T131929Z
LAST-MODIFIED:20260324T131929Z
UID:10797-1777917600-1777923000@szabadjogi.hu
SUMMARY:Dákini átadás Virággal
DESCRIPTION:A Szabad Jógi tanításait online tartjuk meg\, elsősorban Zoom szoftvert használva.  A jelentkezőket kérjük\, hogy telefonjukra vagy számítógépre töltsék le a Zoom szoftverét. Az alkalmakra legkésőbb a kezdés előtt 30 perccel kell jelentkezni\, mert körülbelül 20 perccel az átadás előtt küldjük ki az aktuális linket a jelentkezőknek. Köszönjük rugalmasságotokat!
URL:https://szabadjogi.hu/esemeny/energiagyakorlatok-2-3-3-4-2-2022-02-03-2-3-2-2-2-4-2-2023-07-06-2-6-2-2-2-3-3-5-2-2-2-2-2025-08-25-2-2-4-2-4-2-4-2-4-2-4-9-2-8-2/
LOCATION:Zoom
CATEGORIES:Események
ATTACH;FMTTYPE=image/jpeg:https://szabadjogi.hu/wp-content/uploads/2020/09/michael-podger-N-5x9gDWjs0-unsplash.jpg
END:VEVENT
BEGIN:VEVENT
DTSTART;TZID=UTC:20260506T100000
DTEND;TZID=UTC:20260506T113000
DTSTAMP:20260420T195101
CREATED:20260324T131938Z
LAST-MODIFIED:20260324T131938Z
UID:10798-1778061600-1778067000@szabadjogi.hu
SUMMARY:Jógi mozgás
DESCRIPTION:A Szabad Jógi tanításait online tartjuk meg\, elsősorban Zoom szoftvert használva.  A jelentkezőket kérjük\, hogy telefonjukra vagy számítógépre töltsék le a Zoom szoftverét. Az alkalmakra legkésőbb a kezdés előtt 30 perccel kell jelentkezni\, mert körülbelül 20 perccel az átadás előtt küldjük ki az aktuális linket a jelentkezőknek. Köszönjük rugalmasságotokat!
URL:https://szabadjogi.hu/esemeny/test-tudat-joga-2-3-12-2-4-7-3-7-2/
LOCATION:Zoom
CATEGORIES:Események
ATTACH;FMTTYPE=image/jpeg:https://szabadjogi.hu/wp-content/uploads/2020/09/eneko-urunuela-I2YSmEUAgDY-unsplash.jpg
END:VEVENT
BEGIN:VEVENT
DTSTART;TZID=UTC:20260507T180000
DTEND;TZID=UTC:20260507T193000
DTSTAMP:20260420T195101
CREATED:20260323T070911Z
LAST-MODIFIED:20260323T070911Z
UID:10781-1778176800-1778182200@szabadjogi.hu
SUMMARY:Jógi átadás - Belső Tűz jóga
DESCRIPTION:A Szabad Jógi tanításait online tartjuk meg\, elsősorban Zoom szoftvert használva.  A jelentkezőket kérjük\, hogy telefonjukra vagy számítógépre töltsék le a Zoom szoftverét. Az alkalmakra legkésőbb a kezdés előtt 30 perccel kell jelentkezni\, mert körülbelül 20 perccel az átadás előtt küldjük ki az aktuális linket a jelentkezőknek. Köszönjük rugalmasságotokat!
URL:https://szabadjogi.hu/esemeny/energiagyakorlatok-2-3-3-4-2-2022-02-03-2-3-2-2-2-4-2-2023-07-06-2-2-5-2-2-2-2024-02-22-3-7-2-2025-03-13-2-2-2-2-3-2-4-2-4-2-3-2-4-2-4-2-4-6-2/
LOCATION:Zoom
CATEGORIES:Események
ATTACH;FMTTYPE=image/jpeg:https://szabadjogi.hu/wp-content/uploads/2020/11/photo-1518241353330-0f7941c2d9b5.jpeg
END:VEVENT
BEGIN:VEVENT
DTSTART;TZID=UTC:20260508T150000
DTEND;TZID=UTC:20260517T160000
DTSTAMP:20260420T195101
CREATED:20251006T074739Z
LAST-MODIFIED:20260318T082949Z
UID:10209-1778252400-1779033600@szabadjogi.hu
SUMMARY:Nagy Csö elvonulás
DESCRIPTION:Szeretettel hívlak meg benneteket a Szabad Jógi történetének első nagyszabású Csö elvonulására\, melyet a Dákini-föld vad vidékén végzünk majd el. Az elvonulás nem csupán témáját\, de hosszát tekintve is különleges lehetőség: tengernyi áldás\, érdem és értékes felismerés sűrűsödik össze majd jókívánságaink eredményeként. Akár egy napra jutunk csak le\, akár végig a mesterrel maradunk\, egy ilyen elvonulás beég a tudatunkba és maradandó változást hoz. Egyelőre védelemben\, biztonságban és talán zavartalanul gyakorolhatunk\, ami nagy kincs. Addig kell élnünk értékes feltételeinkkel\, amíg fennállnak. Utána sajnos késő lesz már. \nA nagy elvonulás 10 napos\, a hétvégék során péntektől vasárnap estig bárki csatlakozhat\, aki szeretne\, de hétfőtől csütörtökig bezárkózunk és magunk vagyunk\, fókuszált\, intenzív gyakorlásban. \nA második hétvégét (május 15-17.) Zoom-on is közvetítjük\, erre a 3 napra lehet külön is jönni\, mint egy hagyományos 3 napos elvonulásra. \nAz elvonulás várható napi programja: \n\nhajnali Fehér Csö gyakorlás\nreggel Jógi mozgás\, finomenergia gyakorlás\, nyújtás\, lépésmeditációk\nnapközben egyéni gyakorlás a Dákini-föld területén\ndélután Vörös Csö és tanítások\, felajánlások\neste a sötétben Fekete Csö gyakorlás\negyszer\, a második szombaton\, beavatást adok Macsig Labdrönbe és Troma Nagmoba\nlehetséges\, hogy felmegyünk a hegyekbe gyakorolni\, de ezt majd a dákinik eldöntik\n\nMinél előbb jelentkezzetek\, mert a részletekről még küldünk további levelet! \nFelkészülni az életfeltételek javításával\, megteremtésével tudunk\, valamint jókívánságokkal\, fohászokkal\, felajánlásokkal és mantrák gyűjtésével. \nÉrdemes lenne minél több alkalmas eszközt beszerezni addig\, mint pl. a kangling\, a ghanta vagy a Csö damaru. Fehér\, vörös és fekete sálat is fontos beszerezni\, amit az adott gyakorláson viselhetünk. \nAz elvonulás “early bird” tiszteletdíja május 3-án éjfélig (weboldalon való jelentkezéssel megerősítve): \n10 napos elvonulás esetén: \n\nBelső-\, és Titkos körös jógiknak: 95000 Ft\nKülső tanítványoknak: 115000 Ft\n\n3 napos elvonulás esetén (május 15-17.): \n\nBelső-\, és Titkos körös jógiknak: 33000 Ft\nKülső tanítványoknak: 40000 Ft\n\nTöbb napos részvétel esetén a napidíj: \n\nBelső-\, és Titkos körös jógiknak: 11000 Ft\nKülső tanítványoknak: 13000 Ft\n\nSzeretettel várok mindenkit erre a mélységes elvonulásra! \nVirág \n 
URL:https://szabadjogi.hu/esemeny/nagy_cso_elvonulas/
LOCATION:Dákini-föld és/vagy Zoom
CATEGORIES:Elvonulások
ATTACH;FMTTYPE=image/jpeg:https://szabadjogi.hu/wp-content/uploads/2025/10/machig.jpg
END:VEVENT
BEGIN:VEVENT
DTSTART;TZID=UTC:20260518T180000
DTEND;TZID=UTC:20260518T193000
DTSTAMP:20260420T195101
CREATED:20260105T152210Z
LAST-MODIFIED:20260225T124152Z
UID:10577-1779127200-1779132600@szabadjogi.hu
SUMMARY:Dákini átadás Virággal
DESCRIPTION:A Szabad Jógi tanításait online tartjuk meg\, elsősorban Zoom szoftvert használva.  A jelentkezőket kérjük\, hogy telefonjukra vagy számítógépre töltsék le a Zoom szoftverét. Az alkalmakra legkésőbb a kezdés előtt 30 perccel kell jelentkezni\, mert körülbelül 20 perccel az átadás előtt küldjük ki az aktuális linket a jelentkezőknek. Köszönjük rugalmasságotokat!
URL:https://szabadjogi.hu/esemeny/energiagyakorlatok-2-3-3-4-2-2022-02-03-2-3-2-2-2-4-2-2023-07-06-2-6-2-2-2-3-3-5-2-2-2-2-2025-08-25-2-2-4-2-4-2-4-2-4-2-4-9-2-8/
LOCATION:Zoom
CATEGORIES:Események
ATTACH;FMTTYPE=image/jpeg:https://szabadjogi.hu/wp-content/uploads/2020/09/michael-podger-N-5x9gDWjs0-unsplash.jpg
END:VEVENT
BEGIN:VEVENT
DTSTART;TZID=UTC:20260520T100000
DTEND;TZID=UTC:20260520T113000
DTSTAMP:20260420T195101
CREATED:20260105T153617Z
LAST-MODIFIED:20260225T124210Z
UID:10636-1779271200-1779276600@szabadjogi.hu
SUMMARY:Jógi mozgás
DESCRIPTION:A Szabad Jógi tanításait online tartjuk meg\, elsősorban Zoom szoftvert használva.  A jelentkezőket kérjük\, hogy telefonjukra vagy számítógépre töltsék le a Zoom szoftverét. Az alkalmakra legkésőbb a kezdés előtt 30 perccel kell jelentkezni\, mert körülbelül 20 perccel az átadás előtt küldjük ki az aktuális linket a jelentkezőknek. Köszönjük rugalmasságotokat!
URL:https://szabadjogi.hu/esemeny/test-tudat-joga-2-3-12-2-4-7-3-7/
LOCATION:Zoom
CATEGORIES:Események
ATTACH;FMTTYPE=image/jpeg:https://szabadjogi.hu/wp-content/uploads/2020/09/eneko-urunuela-I2YSmEUAgDY-unsplash.jpg
END:VEVENT
BEGIN:VEVENT
DTSTART;TZID=UTC:20260520T180000
DTEND;TZID=UTC:20260520T193000
DTSTAMP:20260420T195101
CREATED:20260323T070205Z
LAST-MODIFIED:20260323T070205Z
UID:10770-1779300000-1779305400@szabadjogi.hu
SUMMARY:Nem-kettős meditáció
DESCRIPTION:A Szabad Jógi tanításait online tartjuk meg\, elsősorban Zoom szoftvert használva.  A jelentkezőket kérjük\, hogy telefonjukra vagy számítógépre töltsék le a Zoom szoftverét. Az alkalmakra legkésőbb a kezdés előtt 30 perccel kell jelentkezni\, mert körülbelül 20 perccel az átadás előtt küldjük ki az aktuális linket a jelentkezőknek. Köszönjük rugalmasságotokat!
URL:https://szabadjogi.hu/esemeny/energiagyakorlatok-2-3-3-4-2-2022-02-03-2-3-2-2-2-4-2-2023-07-06-2-2-5-2-2-2-2024-02-22-3-7-2-2025-03-13-2-2-2-2-3-2-4-2-4-2-3-2-3-2-3-2/
LOCATION:Zoom
CATEGORIES:Események
ATTACH;FMTTYPE=image/jpeg:https://szabadjogi.hu/wp-content/uploads/2021/02/unnamed-1-e1613638424807-4.jpg
END:VEVENT
BEGIN:VEVENT
DTSTART;TZID=UTC:20260521T180000
DTEND;TZID=UTC:20260521T193000
DTSTAMP:20260420T195101
CREATED:20260105T153153Z
LAST-MODIFIED:20260323T070002Z
UID:10614-1779386400-1779391800@szabadjogi.hu
SUMMARY:Jógi átadás - Belső Tűz jóga
DESCRIPTION:A Szabad Jógi tanításait online tartjuk meg\, elsősorban Zoom szoftvert használva.  A jelentkezőket kérjük\, hogy telefonjukra vagy számítógépre töltsék le a Zoom szoftverét. Az alkalmakra legkésőbb a kezdés előtt 30 perccel kell jelentkezni\, mert körülbelül 20 perccel az átadás előtt küldjük ki az aktuális linket a jelentkezőknek. Köszönjük rugalmasságotokat!
URL:https://szabadjogi.hu/esemeny/energiagyakorlatok-2-3-3-4-2-2022-02-03-2-3-2-2-2-4-2-2023-07-06-2-2-5-2-2-2-2024-02-22-3-7-2-2025-03-13-2-2-2-2-3-2-4-2-4-2-3-2-4-2-4-2-4-7/
LOCATION:Zoom
CATEGORIES:Események
ATTACH;FMTTYPE=image/jpeg:https://szabadjogi.hu/wp-content/uploads/2020/11/photo-1518241353330-0f7941c2d9b5.jpeg
END:VEVENT
BEGIN:VEVENT
DTSTART;TZID=UTC:20260522T080000
DTEND;TZID=UTC:20260522T090000
DTSTAMP:20260420T195101
CREATED:20260324T132037Z
LAST-MODIFIED:20260324T132037Z
UID:10802-1779436800-1779440400@szabadjogi.hu
SUMMARY:Jógi nyújtás
DESCRIPTION:A Szabad Jógi tanításait online tartjuk meg\, elsősorban Zoom szoftvert használva.  A jelentkezőket kérjük\, hogy telefonjukra vagy számítógépre töltsék le a Zoom szoftverét. Az alkalmakra legkésőbb a kezdés előtt 30 perccel kell jelentkezni\, mert körülbelül 20 perccel az átadás előtt küldjük ki az aktuális linket a jelentkezőknek. Köszönjük rugalmasságotokat!
URL:https://szabadjogi.hu/esemeny/test-tudat-joga-2-3-12-2-5-10-2-3/
LOCATION:Zoom
CATEGORIES:Események
ATTACH;FMTTYPE=image/jpeg:https://szabadjogi.hu/wp-content/uploads/2020/09/eneko-urunuela-I2YSmEUAgDY-unsplash.jpg
END:VEVENT
BEGIN:VEVENT
DTSTART;TZID=UTC:20260524T170000
DTEND;TZID=UTC:20260524T190000
DTSTAMP:20260420T195101
CREATED:20260105T152707Z
LAST-MODIFIED:20260323T070109Z
UID:10594-1779642000-1779649200@szabadjogi.hu
SUMMARY:Mahasziddha átadás: Guru nyolc arca
DESCRIPTION:A Szabad Jógi tanításait online tartjuk meg\, elsősorban Zoom szoftvert használva.  A jelentkezőket kérjük\, hogy telefonjukra vagy számítógépre töltsék le a Zoom szoftverét. Az alkalmakra legkésőbb a kezdés előtt 30 perccel kell jelentkezni\, mert körülbelül 20 perccel az átadás előtt küldjük ki az aktuális linket a jelentkezőknek. Köszönjük rugalmasságotokat!
URL:https://szabadjogi.hu/esemeny/energiagyakorlatok-2-3-3-4-2-2022-02-03-2-3-2-2-2-4-2-2023-07-06-2-3-2-2-2-2-2-5-3-2-2-2-2-2-2-3-4-2-3-2-2-3-2-4-5/
LOCATION:Zoom
CATEGORIES:Események
ATTACH;FMTTYPE=image/jpeg:https://szabadjogi.hu/wp-content/uploads/2022/01/Tilopa.jpg
END:VEVENT
BEGIN:VEVENT
DTSTART;TZID=UTC:20260525T180000
DTEND;TZID=UTC:20260525T193000
DTSTAMP:20260420T195101
CREATED:20260105T152219Z
LAST-MODIFIED:20260225T124257Z
UID:10578-1779732000-1779737400@szabadjogi.hu
SUMMARY:Dákini átadás Virággal
DESCRIPTION:A Szabad Jógi tanításait online tartjuk meg\, elsősorban Zoom szoftvert használva.  A jelentkezőket kérjük\, hogy telefonjukra vagy számítógépre töltsék le a Zoom szoftverét. Az alkalmakra legkésőbb a kezdés előtt 30 perccel kell jelentkezni\, mert körülbelül 20 perccel az átadás előtt küldjük ki az aktuális linket a jelentkezőknek. Köszönjük rugalmasságotokat!
URL:https://szabadjogi.hu/esemeny/energiagyakorlatok-2-3-3-4-2-2022-02-03-2-3-2-2-2-4-2-2023-07-06-2-6-2-2-2-3-3-5-2-2-2-2-2025-08-25-2-2-4-2-4-2-4-2-4-2-4-9-2-9/
LOCATION:Zoom
CATEGORIES:Események
ATTACH;FMTTYPE=image/jpeg:https://szabadjogi.hu/wp-content/uploads/2020/09/michael-podger-N-5x9gDWjs0-unsplash.jpg
END:VEVENT
BEGIN:VEVENT
DTSTART;TZID=UTC:20260527T100000
DTEND;TZID=UTC:20260527T113000
DTSTAMP:20260420T195101
CREATED:20260105T153628Z
LAST-MODIFIED:20260225T124315Z
UID:10637-1779876000-1779881400@szabadjogi.hu
SUMMARY:Jógi mozgás
DESCRIPTION:A Szabad Jógi tanításait online tartjuk meg\, elsősorban Zoom szoftvert használva.  A jelentkezőket kérjük\, hogy telefonjukra vagy számítógépre töltsék le a Zoom szoftverét. Az alkalmakra legkésőbb a kezdés előtt 30 perccel kell jelentkezni\, mert körülbelül 20 perccel az átadás előtt küldjük ki az aktuális linket a jelentkezőknek. Köszönjük rugalmasságotokat!
URL:https://szabadjogi.hu/esemeny/test-tudat-joga-2-3-12-2-4-7-3-8/
LOCATION:Zoom
CATEGORIES:Események
ATTACH;FMTTYPE=image/jpeg:https://szabadjogi.hu/wp-content/uploads/2020/09/eneko-urunuela-I2YSmEUAgDY-unsplash.jpg
END:VEVENT
BEGIN:VEVENT
DTSTART;TZID=UTC:20260528T180000
DTEND;TZID=UTC:20260528T193000
DTSTAMP:20260420T195101
CREATED:20260105T153242Z
LAST-MODIFIED:20260323T070011Z
UID:10615-1779991200-1779996600@szabadjogi.hu
SUMMARY:Jógi átadás - Belső Tűz jóga
DESCRIPTION:A Szabad Jógi tanításait online tartjuk meg\, elsősorban Zoom szoftvert használva.  A jelentkezőket kérjük\, hogy telefonjukra vagy számítógépre töltsék le a Zoom szoftverét. Az alkalmakra legkésőbb a kezdés előtt 30 perccel kell jelentkezni\, mert körülbelül 20 perccel az átadás előtt küldjük ki az aktuális linket a jelentkezőknek. Köszönjük rugalmasságotokat!
URL:https://szabadjogi.hu/esemeny/energiagyakorlatok-2-3-3-4-2-2022-02-03-2-3-2-2-2-4-2-2023-07-06-2-2-5-2-2-2-2024-02-22-3-7-2-2025-03-13-2-2-2-2-3-2-4-2-4-2-3-2-4-2-4-2-4-8/
LOCATION:Zoom
CATEGORIES:Események
ATTACH;FMTTYPE=image/jpeg:https://szabadjogi.hu/wp-content/uploads/2020/11/photo-1518241353330-0f7941c2d9b5.jpeg
END:VEVENT
BEGIN:VEVENT
DTSTART;TZID=UTC:20260529T080000
DTEND;TZID=UTC:20260529T090000
DTSTAMP:20260420T195101
CREATED:20260324T132048Z
LAST-MODIFIED:20260324T132048Z
UID:10803-1780041600-1780045200@szabadjogi.hu
SUMMARY:Jógi nyújtás
DESCRIPTION:A Szabad Jógi tanításait online tartjuk meg\, elsősorban Zoom szoftvert használva.  A jelentkezőket kérjük\, hogy telefonjukra vagy számítógépre töltsék le a Zoom szoftverét. Az alkalmakra legkésőbb a kezdés előtt 30 perccel kell jelentkezni\, mert körülbelül 20 perccel az átadás előtt küldjük ki az aktuális linket a jelentkezőknek. Köszönjük rugalmasságotokat!
URL:https://szabadjogi.hu/esemeny/test-tudat-joga-2-3-12-2-5-10-2-4/
LOCATION:Zoom
CATEGORIES:Események
ATTACH;FMTTYPE=image/jpeg:https://szabadjogi.hu/wp-content/uploads/2020/09/eneko-urunuela-I2YSmEUAgDY-unsplash.jpg
END:VEVENT
BEGIN:VEVENT
DTSTART;TZID=UTC:20260531T170000
DTEND;TZID=UTC:20260531T190000
DTSTAMP:20260420T195101
CREATED:20260105T152719Z
LAST-MODIFIED:20260323T070114Z
UID:10595-1780246800-1780254000@szabadjogi.hu
SUMMARY:Mahasziddha átadás: Guru nyolc arca
DESCRIPTION:A Szabad Jógi tanításait online tartjuk meg\, elsősorban Zoom szoftvert használva.  A jelentkezőket kérjük\, hogy telefonjukra vagy számítógépre töltsék le a Zoom szoftverét. Az alkalmakra legkésőbb a kezdés előtt 30 perccel kell jelentkezni\, mert körülbelül 20 perccel az átadás előtt küldjük ki az aktuális linket a jelentkezőknek. Köszönjük rugalmasságotokat!
URL:https://szabadjogi.hu/esemeny/energiagyakorlatok-2-3-3-4-2-2022-02-03-2-3-2-2-2-4-2-2023-07-06-2-3-2-2-2-2-2-5-3-2-2-2-2-2-2-3-4-2-3-2-2-3-2-4-6/
LOCATION:Zoom
CATEGORIES:Események
ATTACH;FMTTYPE=image/jpeg:https://szabadjogi.hu/wp-content/uploads/2022/01/Tilopa.jpg
END:VEVENT
END:VCALENDAR