BEGIN:VCALENDAR
VERSION:2.0
PRODID:-//Szabad Jógi létmód - ECPv6.13.2.1//NONSGML v1.0//EN
CALSCALE:GREGORIAN
METHOD:PUBLISH
X-WR-CALNAME:Szabad Jógi létmód
X-ORIGINAL-URL:https://szabadjogi.hu
X-WR-CALDESC:Események Szabad Jógi létmód
REFRESH-INTERVAL;VALUE=DURATION:PT1H
X-Robots-Tag:noindex
X-PUBLISHED-TTL:PT1H
BEGIN:VTIMEZONE
TZID:UTC
BEGIN:STANDARD
TZOFFSETFROM:+0000
TZOFFSETTO:+0000
TZNAME:UTC
DTSTART:20260101T000000
END:STANDARD
END:VTIMEZONE
BEGIN:VEVENT
DTSTART;TZID=UTC:20261211T150000
DTEND;TZID=UTC:20261213T160000
DTSTAMP:20260421T080132
CREATED:20251006T075257Z
LAST-MODIFIED:20251006T075257Z
UID:10223-1797001200-1797177600@szabadjogi.hu
SUMMARY:Elvonulás
DESCRIPTION:
URL:https://szabadjogi.hu/esemeny/mahasziddhaujratoltve-4-2-3-3-3-4-5-3/
LOCATION:Dákini-föld és/vagy Zoom
CATEGORIES:Elvonulások
ATTACH;FMTTYPE=image/jpeg:https://szabadjogi.hu/wp-content/uploads/2023/11/GR.jpg
END:VEVENT
END:VCALENDAR